BEGIN:VCALENDAR
VERSION:2.0
PRODID:-//Tukios.com/
BEGIN:VEVENT
UID:7580a00d-bd0b-4e18-bf88-92a575f33258@www.emblombrennyfuneral.com
DTSTAMP:20260424T000350Z
DTSTART:20260428T160000Z
DTEND:20260428T170000Z
SUMMARY:Mass
DESCRIPTION:
URL:https://www.emblombrennyfuneral.com/obituaries/anne-marsolek
LOCATION:St. Otto’s Care Center Chapel 920 4th Street Southeast  Little 
	Falls MN 56345
GEO:45.9654655;-94.3604507
END:VEVENT
END:VCALENDAR