BEGIN:VCALENDAR
VERSION:2.0
PRODID:-//Tukios.com/
BEGIN:VEVENT
UID:8e797569-744f-48fb-86f7-f515cd8032f3@www.emblombrennyfuneral.com
DTSTAMP:20260424T000114Z
DTSTART:20260428T150000Z
DTEND:20260428T160000Z
SUMMARY:Visitation
DESCRIPTION:
URL:https://www.emblombrennyfuneral.com/obituaries/anne-marsolek
LOCATION:St. Otto’s Care Center 920 4th Street Southeast  Little Falls 
	MN 56345
GEO:45.9654655;-94.3604507
END:VEVENT
END:VCALENDAR